BEGIN:VCALENDAR
VERSION:2.0
PRODID:icalendar-ruby
CALSCALE:GREGORIAN
METHOD:PUBLISH
BEGIN:VEVENT
DTSTAMP:20260422T215456Z
UID:56-1719838@rileyvillechurch.com
DTSTART:20261014T213000Z
DTEND:20261014T223000Z
CLASS:PUBLIC
CREATED:20260422T153405
DESCRIPTION:Join us outside of your regular Sunday sermon for our Bible stu
 dies for all ages. All are welcome regardless of age and bible knowledge.\
 nChildren’s Bible Study \nKids will learn how to hear God through his 
 word. Each week kids will explore a key bible verse’s meaning\, learn it
 ’s bible study context\, and practice living it’s message in their eve
 ryday life.\nAdults Bible Study\nAdults have begun a new Bible study serie
 s based on Max Lucado’s “You’ll Get Through This.” Through the s
 tory of Joseph\, this study reminds us that even in life’s trials\, God 
 is with us and can bring good from difficult circumstances. Everyone is we
 lcome to join us!
LAST-MODIFIED:20260422T153405
LOCATION:Rileyville Gospel Church
SUMMARY:Wednesday Night Bible Study
URL;VALUE=URI:https://www.rileyvillechurch.com/events/wednesday-night-bible
 -study--56/2026-10-14
ATTACH;FILENAME=march-study-calendar-pic.png;FMTTYPE=image/png:https://dq5p
 wpg1q8ru0.cloudfront.net/2026/03/11/18/02/43/519e1c88-39b1-42c8-bb75-11974
 19bd29b/march-study-calendar-pic.png
END:VEVENT
END:VCALENDAR
